Workbook

Sheet TMH
A1: TMH - 2011 MPB Update
A2: Area (ha) of MPB Attack Severity by Age Class and Density within Pine Stands (Pine Species >= 30% density - The Pine Mask)
A3: TSA Area | B3: 1236000
A4: Pine Mask Unharvested Area | B4: =SUM(data!D2:D200) -> 550794.31
A6: MPB Attack as a percentage of Pine affected within the VRI Stand
A8: MPB Attack Severity
C9: Light (<11%) | E9: Moderate (11-30%) | G9: Severe (31-50%) | I9: Very Severe (>50%) | K9: All Severity | M9: No Attack
A10: Age Class | B10: Pine Density | C10: Area (ha) | D10: Percent of all Pine (Pine Mask) | E10: Area (ha) | F10: Percent of all Pine (Pine Mask) | G10: Area (ha) | H10: Percent of all Pine (Pine Mask) | I10: Area (ha) | J10: Percent of all Pine (Pine Mask) | K10: Total Area of Attack (ha) | L10: Percent of all Pine (Pine Mask) | M10: Area (ha) | N10: Percent of all Pine (Pine Mask)
A11: 21-40 years | B11: 30-70% | C11: {=SUM(IF(data!A2:A200="21-40 years",IF(data!B2:B200="30-70%",IF(data!C2:C200="Light (<11%)",data!D2:D200,0),0),0))} -> 1736.4136 | D11: =C11/($K$20+$M$20) -> 0.0033313568 | E11: {=SUM(IF(data!A2:A200="21-40 years",IF(data!B2:B200="30-70%",IF(data!C2:C200="Moderate (11-30%)",data!D2:D200,0),0),0))} -> 1284.7391 | F11: =E11/($K$20+$M$20) -> 0.002464807 | G11: {=SUM(IF(data!A2:A200="21-40 years",IF(data!B2:B200="30-70%",IF(data!C2:C200="Severe (31-50%)",data!D2:D200,0),0),0))} -> 1340.6232 | H11: =G11/($K$20+$M$20) -> 0.0025720221 | I11: {=SUM(IF(data!A2:A200="21-40 years",IF(data!B2:B200="30-70%",IF(data!C2:C200="Very Severe (>50%)",data!D2:D200,0),0),0))} -> 8707.8688 | J11: =I11/($K$20+$M$20) -> 0.016706284 | K11: =SUM(C11,E11,G11,I11) -> 13069.645 | L11: =K11/($K$20+$M$20) -> 0.02507447 | M11: {=SUM(IF(data!A2:A200="21-40 years",IF(data!B2:B200="30-70%",IF(data!C2:C200="No Attack",data!D2:D200,0),0),0))} -> 6628.3719 | N11: =M11/($K$20+$M$20) -> 0.012716712
B12: >70% | C12: {=SUM(IF(data!A2:A200="21-40 years",IF(data!B2:B200=">70%",IF(data!C2:C200="Light (<11%)",data!D2:D200,0),0),0))} -> 3781.8314 | D12: =C12/($K$20+$M$20) -> 0.0072555467 | E12: {=SUM(IF(data!A2:A200="21-40 years",IF(data!B2:B200=">70%",IF(data!C2:C200="Moderate (11-30%)",data!D2:D200,0),0),0))} -> 1856.3276 | F12: =E12/($K$20+$M$20) -> 0.0035614152 | G12: {=SUM(IF(data!A2:A200="21-40 years",IF(data!B2:B200=">70%",IF(data!C2:C200="Severe (31-50%)",data!D2:D200,0),0),0))} -> 1691.7559 | H12: =G12/($K$20+$M$20) -> 0.0032456798 | I12: {=SUM(IF(data!A2:A200="21-40 years",IF(data!B2:B200=">70%",IF(data!C2:C200="Very Severe (>50%)",data!D2:D200,0),0),0))} -> 23904.019 | J12: =I12/($K$20+$M$20) -> 0.045860513 | K12: =SUM(C12,E12,G12,I12) -> 31233.934 | L12: =K12/($K$20+$M$20) -> 0.059923155 | M12: {=SUM(IF(data!A2:A200="21-40 years",IF(data!B2:B200=">70%",IF(data!C2:C200="No Attack",data!D2:D200,0),0),0))} -> 11976.526 | N12: =M12/($K$20+$M$20) -> 0.022977292
A14: 41-60 years | B14: 30-70% | C14: {=SUM(IF(data!A2:A200="41-60 years",IF(data!B2:B200="30-70%",IF(data!C2:C200="Light (<11%)",data!D2:D200,0),0),0))} -> 838.1385 | D14: =C14/($K$20+$M$20) -> 0.0016079916 | E14: {=SUM(IF(data!A2:A200="41-60 years",IF(data!B2:B200="30-70%",IF(data!C2:C200="Moderate (11-30%)",data!D2:D200,0),0),0))} -> 560.53866 | F14: =E14/($K$20+$M$20) -> 0.0010754087 | G14: {=SUM(IF(data!A2:A200="41-60 years",IF(data!B2:B200="30-70%",IF(data!C2:C200="Severe (31-50%)",data!D2:D200,0),0),0))} -> 672.14883 | H14: =G14/($K$20+$M$20) -> 0.0012895359 | I14: {=SUM(IF(data!A2:A200="41-60 years",IF(data!B2:B200="30-70%",IF(data!C2:C200="Very Severe (>50%)",data!D2:D200,0),0),0))} -> 15139.112 | J14: =I14/($K$20+$M$20) -> 0.029044798 | K14: =SUM(C14,E14,G14,I14) -> 17209.938 | L14: =K14/($K$20+$M$20) -> 0.033017735 | M14: {=SUM(IF(data!A2:A200="41-60 years",IF(data!B2:B200="30-70%",IF(data!C2:C200="No Attack",data!D2:D200,0),0),0))} -> 1810.1256 | N14: =M14/($K$20+$M$20) -> 0.0034727754
B15: >70% | C15: {=SUM(IF(data!A2:A200="41-60 years",IF(data!B2:B200=">70%",IF(data!C2:C200="Light (<11%)",data!D2:D200,0),0),0))} -> 221.96186 | D15: =C15/($K$20+$M$20) -> 0.00042583987 | E15: {=SUM(IF(data!A2:A200="41-60 years",IF(data!B2:B200=">70%",IF(data!C2:C200="Moderate (11-30%)",data!D2:D200,0),0),0))} -> 159.50817 | F15: =E15/($K$20+$M$20) -> 0.00030602078 | G15: {=SUM(IF(data!A2:A200="41-60 years",IF(data!B2:B200=">70%",IF(data!C2:C200="Severe (31-50%)",data!D2:D200,0),0),0))} -> 106.79755 | H15: =G15/($K$20+$M$20) -> 0.00020489401 | I15: {=SUM(IF(data!A2:A200="41-60 years",IF(data!B2:B200=">70%",IF(data!C2:C200="Very Severe (>50%)",data!D2:D200,0),0),0))} -> 7724.9426 | J15: =I15/($K$20+$M$20) -> 0.014820513 | K15: =SUM(C15,E15,G15,I15) -> 8213.2102 | L15: =K15/($K$20+$M$20) -> 0.015757268 | M15: {=SUM(IF(data!A2:A200="41-60 years",IF(data!B2:B200=">70%",IF(data!C2:C200="No Attack",data!D2:D200,0),0),0))} -> 790.14986 | N15: =M15/($K$20+$M$20) -> 0.0015159241
A17: >60 years | B17: 30-70% | C17: {=SUM(IF(data!A2:A200=">60 years",IF(data!B2:B200="30-70%",IF(data!C2:C200="Light (<11%)",data!D2:D200,0),0),0))} -> 2003.1268 | D17: =C17/($K$20+$M$20) -> 0.0038430534 | E17: {=SUM(IF(data!A2:A200=">60 years",IF(data!B2:B200="30-70%",IF(data!C2:C200="Moderate (11-30%)",data!D2:D200,0),0),0))} -> 3210.6921 | F17: =E17/($K$20+$M$20) -> 0.0061598003 | G17: {=SUM(IF(data!A2:A200=">60 years",IF(data!B2:B200="30-70%",IF(data!C2:C200="Severe (31-50%)",data!D2:D200,0),0),0))} -> 6405.9902 | H17: =G17/($K$20+$M$20) -> 0.012290067 | I17: {=SUM(IF(data!A2:A200=">60 years",IF(data!B2:B200="30-70%",IF(data!C2:C200="Very Severe (>50%)",data!D2:D200,0),0),0))} -> 196402.06 | J17: =I17/($K$20+$M$20) -> 0.37680271 | K17: =SUM(C17,E17,G17,I17) -> 208021.87 | L17: =K17/($K$20+$M$20) -> 0.39909563 | M17: {=SUM(IF(data!A2:A200=">60 years",IF(data!B2:B200="30-70%",IF(data!C2:C200="No Attack",data!D2:D200,0),0),0))} -> 6495.4899 | N17: =M17/($K$20+$M$20) -> 0.012461774
B18: >70% | C18: {=SUM(IF(data!A2:A200=">60 years",IF(data!B2:B200=">70%",IF(data!C2:C200="Light (<11%)",data!D2:D200,0),0),0))} -> 1467.5093 | D18: =C18/($K$20+$M$20) -> 0.0028154567 | E18: {=SUM(IF(data!A2:A200=">60 years",IF(data!B2:B200=">70%",IF(data!C2:C200="Moderate (11-30%)",data!D2:D200,0),0),0))} -> 4805.9115 | F18: =E18/($K$20+$M$20) -> 0.0092202723 | G18: {=SUM(IF(data!A2:A200=">60 years",IF(data!B2:B200=">70%",IF(data!C2:C200="Severe (31-50%)",data!D2:D200,0),0),0))} -> 10074.092 | H18: =G18/($K$20+$M$20) -> 0.01932742 | I18: {=SUM(IF(data!A2:A200=">60 years",IF(data!B2:B200=">70%",IF(data!C2:C200="Very Severe (>50%)",data!D2:D200,0),0),0))} -> 196572.6 | J18: =I18/($K$20+$M$20) -> 0.3771299 | K18: =SUM(C18,E18,G18,I18) -> 212920.11 | L18: =K18/($K$20+$M$20) -> 0.40849305 | M18: {=SUM(IF(data!A2:A200=">60 years",IF(data!B2:B200=">70%",IF(data!C2:C200="No Attack",data!D2:D200,0),0),0))} -> 2863.7684 | N18: =M18/($K$20+$M$20) -> 0.0054942178
A20: Total | C20: =SUM(C11:C18) -> 10048.981 | D20: =C20/($K$20+$M$20) -> 0.019279245 | E20: =SUM(E11:E18) -> 11877.717 | F20: =E20/($K$20+$M$20) -> 0.022787724 | G20: =SUM(G11:G18) -> 20291.408 | H20: =G20/($K$20+$M$20) -> 0.038929619 | I20: =SUM(I11:I18) -> 448450.61 | J20: =I20/($K$20+$M$20) -> 0.86036472 | K20: =SUM(K11:K18) -> 490668.71 | L20: =SUM(L11:L18) -> 0.9413613 | M20: =SUM(M11:M18) -> 30564.432 | N20: =SUM(N11:N18) -> 0.058638696

Sheet data
A1: Age Class | B1: Pine Density | C1: MPB Attack Severity | D1: Sum Of area_ha
A2: <21 years | B2: >70% | C2: Light (<11%) | D2: 1035.3216
A3: <21 years | B3: >70% | C3: Light (<11%) | D3: 2732.8615
A4: <21 years | B4: >70% | C4: Light (<11%) | D4: 0.00011833025
A5: <21 years | B5: >70% | C5: Moderate (11-30%) | D5: 542.90018
A6: <21 years | B6: >70% | C6: Moderate (11-30%) | D6: 978.80074
A7: <21 years | B7: >70% | C7: No Attack | D7: 5246.0619
A8: <21 years | B8: >70% | C8: No Attack | D8: 1330.9513
A9: <21 years | B9: >70% | C9: No Attack | D9: 3617.0895
A10: <21 years | B10: >70% | C10: Severe (31-50%) | D10: 311.70415
A11: <21 years | B11: >70% | C11: Severe (31-50%) | D11: 210.83933
A12: <21 years | B12: >70% | C12: Very Severe (>50%) | D12: 2291.7477
A13: <21 years | B13: >70% | C13: Very Severe (>50%) | D13: 1345.1852
... A102: 41-60 years | B102: 30-70% | C102: Very Severe (>50%) | D102: 4.8535411

Sheet Sheet3
